Workbook

Sheet ELENCO
A3: PERSONALE
A4: MATERIALI DI CONSUMO

Sheet RENDICONTO_SPESE
A2: Avviso Pubblico mediante procedura valutativa a sportello per la creazione sperimentale di HUBS aggregativi educativi, volti a promuovere il benessere giovanile e a contrastare il disagio e la cyberviolenza negli adolescenti tra gli 11 e i 17 anni | Q2: INDICAZIONI PER LA COMPILAZIONE
A3: ALLEGATO 8 - RENDICONTO
A4: RETE:_______________________________ | Q4: Per un corretto funzionamento dei successivi fogli di lavoro utilizzare esclusivamente i menù a tendina presenti nelle colonne "Imputazione" e " Voci di costo "
A5: Voce di costo | B5: Denominazione Soggetto componente la RETE | C5: Codice fiscale dip. /P.I. Fornitore/ | D5: Nome e Cognome dip. / Denominazione Fornitore | E5: N.giustificativo di Spesa/mensilità Busta paga dip. | F5: Data giustificativo di Spesa | G5: Importo giustificativo di Spesa | H5: Giustificativo di Pagamento | I5: Data Pagamento | J5: Importo Pagamento | K5: Data Quietanza | L5: Costo Orario | M5: Ore svolte | N5: COSTI DIRETTI | O5: COSTI INDIRETTI FORFETTARI (15% costi diretti ammissibili per personale) | Q5: Le colonne "Costo orario " e "Ore svolte" devono essere valorizzate esclusivamente per spese di personale (interno/esterno).
N6: =+L6*M6 -> 0 | O6: =IF(A6=ELENCO!$A$3,N6*0.15,"") | Q6: La colonna "IMPORTO RENDICONTATO" si valorizza automaticamente dopo avere compilato i campi "Costo orario " e "Ore svolte" (spese di personale interno/esterno)
N7: =+L7*M7 -> 0 | O7: =IF(A7=ELENCO!$A$3,N7*0.15,"") | Q7: Nel caso di spese diverse da quelle di personale (interno/esterno) le colonne "Costo orario " e "Ore svolte" non devono essere valorizzate e la colonna "IMPORTO RENDICONTATO" deve essere compilata manualmente
N8: =+L8*M8 -> 0 | O8: =IF(A8=ELENCO!$A$3,N8*0.15,"") | Q8: La colonna "COSTI INDIRETTI FORFETTARI" si valorizza automaticamente calcolando il 15% delle spese di personale
N9: =+L9*M9 -> 0 | O9: =IF(A9=ELENCO!$A$3,N9*0.15,"")
N10: =+L10*M10 -> 0 | O10: =IF(A10=ELENCO!$A$3,N10*0.15,"")
N11: =+L11*M11 -> 0 | O11: =IF(A11=ELENCO!$A$3,N11*0.15,"")
N12: =+L12*M12 -> 0 | O12: =IF(A12=ELENCO!$A$3,N12*0.15,"") | Q12: Il presente prospetto deve riportare tutte le spese sostenute dai singoli soggetti compoenti la RETE
N13: =+L13*M13 -> 0 | O13: =IF(A13=ELENCO!$A$3,N13*0.15,"")
N14: =+L14*M14 -> 0 | O14: =IF(A14=ELENCO!$A$3,N14*0.15,"")
N15: =+L15*M15 -> 0 | O15: =IF(A15=ELENCO!$A$3,N15*0.15,"")
N16: =+L16*M16 -> 0 | O16: =IF(A16=ELENCO!$A$3,N16*0.15,"")
N17: =+L17*M17 -> 0 | O17: =IF(A17=ELENCO!$A$3,N17*0.15,"")
N18: =+L18*M18 -> 0 | O18: =IF(A18=ELENCO!$A$3,N18*0.15,"")
N19: =+L19*M19 -> 0 | O19: =IF(A19=ELENCO!$A$3,N19*0.15,"")
N20: =+L20*M20 -> 0 | O20: =IF(A20=ELENCO!$A$3,N20*0.15,"")
N21: =+L21*M21 -> 0 | O21: =IF(A21=ELENCO!$A$3,N21*0.15,"")
N22: =+L22*M22 -> 0 | O22: =IF(A22=ELENCO!$A$3,N22*0.15,"")
N23: =+L23*M23 -> 0 | O23: =IF(A23=ELENCO!$A$3,N23*0.15,"")
N24: =+L24*M24 -> 0 | O24: =IF(A24=ELENCO!$A$3,N24*0.15,"")
... N173: =+L173*M173 -> 0 | O173: =IF(A173=ELENCO!$A$3,N173*0.15,"")
N174: =SUM(N6:N173) -> 0 | O174: =SUM(O6:O173) -> 0
K179: TOTALE SPESA RENDICONTATA | N179: =+N174+O174 -> 0
L187: Timbro del Beneficiario e firma del Rappresentante Legale - Capofila

Sheet Costo_Orario_Personale_interno
A2: Avviso Pubblico mediante procedura valutativa a sportello per la creazione sperimentale di HUBS aggregativi educativi, volti a promuovere il benessere giovanile e a contrastare il disagio e la cyberviolenza negli adolescenti tra gli 11 e i 17 anni
A3: ALLEGATO 8 - COSTO ORARIO PERSONALE INTERNO
A4: Singolo componente RETE:_______________________________
A5: Nome e Cognome | B5: Qualifica | C5: Retribuzione diretta ( A ) | D5: Retribuzione differita ( B ) | E5: Oneri previdenziali e assistenziali a carico del beneficiario non compresi in busta paga (ovvero non a carico del dipendente) ( C ) | F5: Ulteriori costi previsti da contratto ( D ) | G5: Costo effettivo annuo lordo ( F=A+B+C+D ) | H5: monte ore annuo di lavoro ( G ) | I5: costo orario ( F/G ) | K5: Il costo ammissibile è determinato in base alle ore effettivamente prestate nel progetto. Queste, comprovate attraverso la compilazione di time sheet mensili, sono valorizzate al costo orario da determinare come di seguito indicato: per ogni persona impiegata nel progetto sarà preso come base il costo effettivo annuo lordo (retribuzione effettiva annua lorda - con esclusione di ogni emolumento ad personam - indennità di trasferta, lavoro straordinario, premi di varia natura, ecc - maggiorata dei contributi di legge o contrattuali e degli oneri differiti. Il costo effettivo annuo lordo riconosciuto ammissibile per la determinazione del costo orario della prestazione, conformemente a quanto previsto dalla normativa, deve essere pari all’importo totale degli elementi costitutivi della retribuzione annua in godimento (con esclusione degli elementi mobili) e di quelli differiti (TFR), maggiorato degli oneri riflessi. Tale importo deve essere diviso per il monte ore annuo di lavoro convenzionale come di seguito esplicitato. - Retribuzione diretta: retribuzione lorda mensile x 12 mensilità - Retribuzione differita: Rateo TFR, 13esima, 14esima - Oneri previdenziali e assistenziali a carico del beneficiario non compresi in busta paga (ovvero non a carico del dipendente): contributi INPS e INAIL - Ulteriori costi previsti da contratto: Ulteriori costi ad esclusione degli emolumenti ad personam Il monte ore annuo convenzionale è desumibile dal CCNL, e ai fini del calcolo del costo orario, deve essere decurtato delle ore relative a ferie, permessi retribuiti, riposi per festività soppresse e per festività cadenti in giorni lavorativi. A solo titolo esemplificativo, per la determinazione delle ore annue da assumere a divisore, si procede nel modo seguente Ore di lavoro convenzionali: 52 settimane X 40 ore settimanali=2080 ( + ) Ore non lavorate: Ferie:20 giorni x 8 ore= 160 ( - ) Permessi retribuiti:9 giorni x 8 ore=72 ( - ) Riposi per festività soppresse:4 giorni x 8 ore= 32 ( - ) Festività cadenti in giorni lavorativi:9 giorni x 8 ore=72 ( - ) TOTALE MONTE ORE ANNUO CONVENZIONALE: 1744
G6: =+C6+D6+E6+F6 -> 0 | I6: =IFERROR(G6/H6,0) -> 0
G7: =+C7+D7+E7+F7 -> 0 | I7: =IFERROR(G7/H7,0) -> 0
G8: =+C8+D8+E8+F8 -> 0 | I8: =IFERROR(G8/H8,0) -> 0
G9: =+C9+D9+E9+F9 -> 0 | I9: =IFERROR(G9/H9,0) -> 0
G10: =+C10+D10+E10+F10 -> 0 | I10: =IFERROR(G10/H10,0) -> 0
G11: =+C11+D11+E11+F11 -> 0 | I11: =IFERROR(G11/H11,0) -> 0
G12: =+C12+D12+E12+F12 -> 0 | I12: =IFERROR(G12/H12,0) -> 0
G13: =+C13+D13+E13+F13 -> 0 | I13: =IFERROR(G13/H13,0) -> 0
G14: =+C14+D14+E14+F14 -> 0 | I14: =IFERROR(G14/H14,0) -> 0
G15: =+C15+D15+E15+F15 -> 0 | I15: =IFERROR(G15/H15,0) -> 0
G16: =+C16+D16+E16+F16 -> 0 | I16: =IFERROR(G16/H16,0) -> 0
G17: =+C17+D17+E17+F17 -> 0 | I17: =IFERROR(G17/H17,0) -> 0
... G34: =+C34+D34+E34+F34 -> 0 | I34: =IFERROR(G34/H34,0) -> 0
K35: Il presente prospetto deve essere utilizzato da ogni singolo soggetto compoente la RETE nel caso di impiego di personale interno.
G37: Timbro del Beneficiario e firma del Rappresentante Legale
